BEGIN:VCALENDAR
VERSION:2.0
PRODID:-//Squarespace Inc/Squarespace 6//v6//EN
BEGIN:VEVENT
UID:5a5c3f098165f5ec9dec0e53@squarespace.com
DTSTAMP:20180515T031303Z
DTSTART:20180519T000000Z
DTEND:20180519T060000Z
SUMMARY:WOODEN SPOON CARVING
GEO:-33.88899;151.176387
LOCATION:Pocket City Farms\, 31A Mallett Street\, Camperdown\, NSW\, 2050\, 
 Australia
END:VEVENT
END:VCALENDAR
