BEGIN:VCALENDAR
VERSION:2.0
PRODID:-//Squarespace Inc/Squarespace 6//v6//EN
BEGIN:VEVENT
UID:59e5a1739f8dcefad9161c83@squarespace.com
DTSTAMP:20180115T054129Z
DTSTART:20180216T230000Z
DTEND:20180217T050000Z
SUMMARY:WOODEN SPOON CARVING
GEO:-33.88899;151.176387
LOCATION:Camperdown Commons\, 31A Mallett Street\, Camperdown\, NSW\, 2050\
 , Australia
END:VEVENT
END:VCALENDAR
